BEGIN:VCALENDAR
VERSION:2.0
PRODID:icalendar-ruby
CALSCALE:GREGORIAN
BEGIN:VEVENT
DTSTAMP:20260420T190808Z
UID:e15b11fd-a1ea-49c0-962a-7e78618a807d
DTSTART;TZID=Pacific/Auckland:20260426T130000
DTEND;TZID=Pacific/Auckland:20260426T133000
DESCRIPTION:Property ID# 596227
SUMMARY:Openhome for 882/233 Cuba Street
END:VEVENT
END:VCALENDAR
