BEGIN:VCALENDAR
VERSION:2.0
PRODID:icalendar-ruby
CALSCALE:GREGORIAN
BEGIN:VEVENT
DTSTAMP:20260420T222301Z
UID:62377085-5d7e-4b7b-9fc3-d0fb0effe8ec
DTSTART;VALUE=DATE:20260212
DESCRIPTION:Property ID# 602241\, Locatoin: 8 Kent Terrace\, Wellington (wi
 ll not be sold prior)\, Time: 1:00PM
SUMMARY:Auction for 
END:VEVENT
END:VCALENDAR
