BEGIN:VCALENDAR
VERSION:2.0
PRODID:icalendar-ruby
CALSCALE:GREGORIAN
BEGIN:VEVENT
DTSTAMP:20260420T222200Z
UID:65f3b219-156f-4a0d-bcf0-502446be2c44
DTSTART;VALUE=DATE:20260204
DESCRIPTION:Property ID# 601467\, Locatoin: 8 Kent Terrace\, Wellington (wi
 ll not be sold prior)\, Time: 12:00PM
SUMMARY:Auction for 
END:VEVENT
END:VCALENDAR
