BEGIN:VCALENDAR
VERSION:2.0
PRODID:icalendar-ruby
CALSCALE:GREGORIAN
BEGIN:VEVENT
DTSTAMP:20260420T222139Z
UID:26011e94-e5bf-4cfb-b8ee-a2a6c3ae8cef
DTSTART;VALUE=DATE:20260129
DESCRIPTION:Property ID# 601313\, Locatoin: 8 Kent Terrace\, Wellington (wi
 ll not be sold prior)\, Time: 1:00PM
SUMMARY:Auction for 
END:VEVENT
END:VCALENDAR
