BEGIN:VCALENDAR
VERSION:2.0
PRODID:icalendar-ruby
CALSCALE:GREGORIAN
BEGIN:VEVENT
DTSTAMP:20260422T144301Z
UID:1c2e65e3-1f8c-4a90-becb-cbeb8199e6eb
DTSTART;VALUE=DATE:20260205
DESCRIPTION:Property ID# 601092\, Locatoin: 8 Kent Terrace\, Wellington (wi
 ll not be sold prior)\, Time: 12:00PM
SUMMARY:Auction for 
END:VEVENT
END:VCALENDAR
