BEGIN:VCALENDAR
VERSION:2.0
PRODID:icalendar-ruby
CALSCALE:GREGORIAN
BEGIN:VEVENT
DTSTAMP:20260420T222256Z
UID:cfa5ace2-a21b-493c-9674-cff0dcf29b92
DTSTART;VALUE=DATE:20251210
DESCRIPTION:Property ID# 600338\, Locatoin: 8 Kent Terrace\, Wellington (wi
 ll  not be sold prior)\, Time: 12:00PM
SUMMARY:Auction for 
END:VEVENT
END:VCALENDAR
