BEGIN:VCALENDAR
VERSION:2.0
PRODID:icalendar-ruby
CALSCALE:GREGORIAN
BEGIN:VEVENT
DTSTAMP:20260420T183316Z
UID:ea03fecb-7bc3-43a9-85ee-59e3247bc6da
DTSTART;VALUE=DATE:20251121
DESCRIPTION:Property ID# 599668\, Locatoin: 8 Kent Terrace\, Wellington \, 
 Time: 12:00PM
SUMMARY:Auction for 
END:VEVENT
END:VCALENDAR
