BEGIN:VCALENDAR
VERSION:2.0
PRODID:icalendar-ruby
CALSCALE:GREGORIAN
BEGIN:VEVENT
DTSTAMP:20260420T222015Z
UID:cbb18545-6ca7-4d6d-9a11-92a59c59c81e
DTSTART;VALUE=DATE:20251113
DESCRIPTION:Property ID# 599248\, Locatoin: 8 Kent Terrace\, Wellington\, T
 ime: 1:00PM
SUMMARY:Auction for 
END:VEVENT
END:VCALENDAR
