BEGIN:VCALENDAR
VERSION:2.0
PRODID:icalendar-ruby
CALSCALE:GREGORIAN
BEGIN:VEVENT
DTSTAMP:20260423T090405Z
UID:476d374b-7082-4850-b874-d53f8864e0ec
DTSTART;VALUE=DATE:20250925
DESCRIPTION:Property ID# 596583\, Locatoin: 8 Kent Terrace\, Wellington\, T
 ime: 12:00PM
SUMMARY:Auction for 
END:VEVENT
END:VCALENDAR
