BEGIN:VCALENDAR
VERSION:2.0
PRODID:icalendar-ruby
CALSCALE:GREGORIAN
BEGIN:VEVENT
DTSTAMP:20260420T221813Z
UID:c0d26d25-21c6-43af-950c-75269fb7a217
DTSTART;VALUE=DATE:20250821
DESCRIPTION:Property ID# 595264\, Locatoin: 8 Kent Terrace\, Wellington (wi
 ll  not be sold prior)\, Time: 1:00PM
SUMMARY:Auction for 
END:VEVENT
END:VCALENDAR
