BEGIN:VCALENDAR
VERSION:2.0
PRODID:icalendar-ruby
CALSCALE:GREGORIAN
BEGIN:VEVENT
DTSTAMP:20260421T012245Z
UID:41077a46-1424-48cb-a168-cdffdd4e37ed
DTSTART;VALUE=DATE:20250417
DESCRIPTION:Property ID# 590577\, Locatoin: 8 Kent Terrace\, Wellington (wi
 ll  not be sold prior)\, Time: 12:00PM
SUMMARY:Auction for 
END:VEVENT
END:VCALENDAR
