BEGIN:VCALENDAR
VERSION:2.0
PRODID:icalendar-ruby
CALSCALE:GREGORIAN
BEGIN:VEVENT
DTSTAMP:20260420T191423Z
UID:19aac3ba-c144-4cc0-aeea-aefed0579ff7
DTSTART;VALUE=DATE:20250411
DESCRIPTION:Property ID# 590538\, Locatoin: 2/153 Karori Road\, Wellington\
 , Time: 12:00PM
SUMMARY:Auction for 
END:VEVENT
END:VCALENDAR
