BEGIN:VCALENDAR
VERSION:2.0
PRODID:icalendar-ruby
CALSCALE:GREGORIAN
BEGIN:VEVENT
DTSTAMP:20260420T191402Z
UID:ed3cfbde-9746-4bf4-a51e-dbbc8f408ede
DTSTART;VALUE=DATE:20250306
DESCRIPTION:Property ID# 588105\, Locatoin: 2/153 Karori Road\, Wellington\
 , Time: 12:00PM
SUMMARY:Auction for 
END:VEVENT
END:VCALENDAR
