BEGIN:VCALENDAR
VERSION:2.0
PRODID:icalendar-ruby
CALSCALE:GREGORIAN
BEGIN:VEVENT
DTSTAMP:20260420T191305Z
UID:54335112-cbe8-42bc-bb08-2959bae26c7c
DTSTART;VALUE=DATE:20250226
DESCRIPTION:Property ID# 587788\, Locatoin: 2/153 Karori Road\, Wellington\
 , Time: 2:00PM
SUMMARY:Auction for 
END:VEVENT
END:VCALENDAR
