BEGIN:VCALENDAR
VERSION:2.0
PRODID:icalendar-ruby
CALSCALE:GREGORIAN
BEGIN:VEVENT
DTSTAMP:20260421T012326Z
UID:e3cd1266-11e9-41f0-bbe3-b3a73cb695e6
DTSTART;VALUE=DATE:20250227
DESCRIPTION:Property ID# 587302\, Time: 12:00PM
SUMMARY:Auction for 
END:VEVENT
END:VCALENDAR
