BEGIN:VCALENDAR
VERSION:2.0
PRODID:icalendar-ruby
CALSCALE:GREGORIAN
BEGIN:VEVENT
DTSTAMP:20260420T222132Z
UID:e9630c50-21d1-4f9d-8997-40cdccb68e22
DTSTART;VALUE=DATE:20250213
DESCRIPTION:Property ID# 586907\, Locatoin: 8 Kent Terrace\, Wellington\, T
 ime: 3:00PM
SUMMARY:Auction for 
END:VEVENT
END:VCALENDAR
