BEGIN:VCALENDAR
VERSION:2.0
PRODID:icalendar-ruby
CALSCALE:GREGORIAN
BEGIN:VEVENT
DTSTAMP:20260420T191922Z
UID:00bd21b2-2c50-466b-be95-3208366335d5
DTSTART;VALUE=DATE:20250123
DESCRIPTION:Property ID# 585761\, Locatoin: 2/153 Karori Road\, Wellington\
 , Time: 12:00PM
SUMMARY:Auction for 
END:VEVENT
END:VCALENDAR
