BEGIN:VCALENDAR
VERSION:2.0
PRODID:icalendar-ruby
CALSCALE:GREGORIAN
BEGIN:VEVENT
DTSTAMP:20260420T191015Z
UID:466a5cfb-61ee-4ff2-a878-283554bfd79b
DTSTART;VALUE=DATE:20241205
DESCRIPTION:Property ID# 584397\, Locatoin: 2/153 Karori Road\, Wellington\
 , Time: 12:00PM
SUMMARY:Auction for 
END:VEVENT
END:VCALENDAR
