BEGIN:VCALENDAR
VERSION:2.0
PRODID:icalendar-ruby
CALSCALE:GREGORIAN
BEGIN:VEVENT
DTSTAMP:20260420T190818Z
UID:370150f4-94f4-4f3a-b0f7-5f1862775c0e
DTSTART;VALUE=DATE:20241010
DESCRIPTION:Property ID# 581071\, Locatoin: 2/153 Karori Road\, Wellington\
 , Time: 12:00PM
SUMMARY:Auction for 
END:VEVENT
END:VCALENDAR
