BEGIN:VCALENDAR
VERSION:2.0
PRODID:icalendar-ruby
CALSCALE:GREGORIAN
BEGIN:VEVENT
DTSTAMP:20260420T221944Z
UID:8b60a9d1-fb31-4811-ba8f-371f5f6b2673
DTSTART;VALUE=DATE:20240926
DESCRIPTION:Property ID# 580510\, Locatoin: 8 Kent Terrace\, Wellington\, T
 ime: 12:00PM
SUMMARY:Auction for 
END:VEVENT
END:VCALENDAR
