BEGIN:VCALENDAR
VERSION:2.0
PRODID:icalendar-ruby
CALSCALE:GREGORIAN
BEGIN:VEVENT
DTSTAMP:20260420T222031Z
UID:03860f69-aaf5-4103-b857-4bb87a761b28
DTSTART;VALUE=DATE:20240613
DESCRIPTION:Property ID# 574467\, Locatoin: 8 Kent Terrace\, Wellington\, T
 ime: 2:00PM
SUMMARY:Auction for 
END:VEVENT
END:VCALENDAR
