BEGIN:VCALENDAR
VERSION:2.0
PRODID:icalendar-ruby
CALSCALE:GREGORIAN
BEGIN:VEVENT
DTSTAMP:20260424T105142Z
UID:a3e33711-0208-4f75-9f5e-3caca05984fe
DTSTART;VALUE=DATE:20240314
DESCRIPTION:Property ID# 570936\, Locatoin: 8 Kent Terrace\, Wellington\, T
 ime: 2:00PM
SUMMARY:Auction for 
END:VEVENT
END:VCALENDAR
