BEGIN:VCALENDAR
VERSION:2.0
PRODID:icalendar-ruby
CALSCALE:GREGORIAN
BEGIN:VEVENT
DTSTAMP:20260424T163303Z
UID:0048bd46-c125-4327-bd6c-85e8336a600b
DTSTART;VALUE=DATE:20240308
DESCRIPTION:Property ID# 570562\, Locatoin: Harcourts Wellington City Offic
 e (unless sold prior)\, Time: 12:00PM
SUMMARY:Auction for 
END:VEVENT
END:VCALENDAR
