BEGIN:VCALENDAR
VERSION:2.0
PRODID:icalendar-ruby
CALSCALE:GREGORIAN
BEGIN:VEVENT
DTSTAMP:20260424T004954Z
UID:1df81b04-00eb-458b-801b-34f33869e01b
DTSTART;VALUE=DATE:20211104
DESCRIPTION:Property ID# 519234\, Locatoin: 149 Johnsonville Road\, Johnson
 ville\, Time: 1:00PM
SUMMARY:Auction for 
END:VEVENT
END:VCALENDAR
