BEGIN:VCALENDAR
VERSION:2.0
PRODID:icalendar-ruby
CALSCALE:GREGORIAN
BEGIN:VEVENT
DTSTAMP:20260424T004930Z
UID:261135cd-9f03-43f2-978b-755a63d9dfb0
DTSTART;VALUE=DATE:20210603
DESCRIPTION:Property ID# 509867\, Locatoin: 149 Johnsonville Road\, Johnson
 ville\, Time: 1:00PM
SUMMARY:Auction for 
END:VEVENT
END:VCALENDAR
