BEGIN:VCALENDAR
VERSION:2.0
PRODID:icalendar-ruby
CALSCALE:GREGORIAN
BEGIN:VEVENT
DTSTAMP:20260424T004817Z
UID:50a082a8-7627-4e44-8a13-c53c55305c2e
DTSTART;VALUE=DATE:20210527
DESCRIPTION:Property ID# 509286\, Locatoin: 149 Johnsonville Road\, Johnson
 ville\, Time: 1:00PM
SUMMARY:Auction for 
END:VEVENT
END:VCALENDAR
