BEGIN:VCALENDAR
VERSION:2.0
PRODID:icalendar-ruby
CALSCALE:GREGORIAN
BEGIN:VEVENT
DTSTAMP:20260424T162400Z
UID:51fc331e-d452-4b3d-ac93-f26479d768cc
DTSTART;VALUE=DATE:20210219
DESCRIPTION:Property ID# 502032\, Time: 12:30PM
SUMMARY:Auction for 
END:VEVENT
END:VCALENDAR
