BEGIN:VCALENDAR
VERSION:2.0
PRODID:icalendar-ruby
CALSCALE:GREGORIAN
BEGIN:VEVENT
DTSTAMP:20260424T005747Z
UID:962f17a7-ce01-48bd-8c79-235fc7bd3621
DTSTART;VALUE=DATE:20210225
DESCRIPTION:Property ID# 501251\, Locatoin: 149 Johnsonville Road\, Johnson
 ville\, Time: 1:00PM
SUMMARY:Auction for 
END:VEVENT
END:VCALENDAR
