BEGIN:VCALENDAR
VERSION:2.0
PRODID:icalendar-ruby
CALSCALE:GREGORIAN
BEGIN:VEVENT
DTSTAMP:20260424T004816Z
UID:27660da5-84a2-47af-a390-aed07c24e241
DTSTART;VALUE=DATE:20201216
DESCRIPTION:Property ID# 496261\, Locatoin: 149 Johnsonville Raod\, Johnson
 ville\, Wellington 6037\, Time: 1:00PM
SUMMARY:Auction for 
END:VEVENT
END:VCALENDAR
