BEGIN:VCALENDAR
VERSION:2.0
PRODID:icalendar-ruby
CALSCALE:GREGORIAN
BEGIN:VEVENT
DTSTAMP:20260420T235255Z
UID:4b54760f-e063-4489-8764-ec63bcb8c154
DTSTART;VALUE=DATE:20200805
DESCRIPTION:Property ID# 485004\, Time: 12:00PM
SUMMARY:Auction for 
END:VEVENT
END:VCALENDAR
