BEGIN:VCALENDAR
VERSION:2.0
PRODID:icalendar-ruby
CALSCALE:GREGORIAN
BEGIN:VEVENT
DTSTAMP:20260425T105007Z
UID:89d4f4bf-967b-48f0-8a90-203920a2b39c
DTSTART;VALUE=DATE:20200326
DESCRIPTION:Property ID# 474400\, Locatoin: 149 Johnsonville Raod\, Johnson
 ville\, Wellington 6037\, Time: 1:00PM
SUMMARY:Auction for 
END:VEVENT
END:VCALENDAR
