BEGIN:VCALENDAR
VERSION:2.0
PRODID:icalendar-ruby
CALSCALE:GREGORIAN
BEGIN:VEVENT
DTSTAMP:20260421T053812Z
UID:a6a826b9-e4cb-4acd-a5d4-ca9721b61a00
DTSTART;VALUE=DATE:20200305
DESCRIPTION:Property ID# 472885\, Locatoin: 8 Kent Terrace\, Wellington\, T
 ime: 12:00PM
SUMMARY:Auction for 
END:VEVENT
END:VCALENDAR
