BEGIN:VCALENDAR
VERSION:2.0
PRODID:icalendar-ruby
CALSCALE:GREGORIAN
BEGIN:VEVENT
DTSTAMP:20210121T022329Z
UID:d0b67e1f-c491-4a1f-be38-9ebbd8443893
DTSTART;TZID=Pacific/Auckland:20210123T123000
DTEND;TZID=Pacific/Auckland:20210123T130000
DESCRIPTION:Property ID# 500298
SUMMARY:Openhome for 4/544 High Street
END:VEVENT
END:VCALENDAR
