BEGIN:VCALENDAR
VERSION:2.0
PRODID:icalendar-ruby
CALSCALE:GREGORIAN
BEGIN:VEVENT
DTSTAMP:20210121T021500Z
UID:bae4ddeb-ab7e-4098-835e-b836e0fa8d4c
DTSTART;TZID=Pacific/Auckland:20210121T180000
DTEND;TZID=Pacific/Auckland:20210121T183000
DESCRIPTION:Property ID# 500216
SUMMARY:Openhome for 106 Quebec Street
END:VEVENT
END:VCALENDAR
