BEGIN:VCALENDAR
VERSION:2.0
PRODID:icalendar-ruby
CALSCALE:GREGORIAN
BEGIN:VEVENT
DTSTAMP:20210121T022243Z
UID:707fdae6-0ba1-43fd-ac54-93a97b60df7d
DTSTART;TZID=Pacific/Auckland:20210123T120000
DTEND;TZID=Pacific/Auckland:20210123T123000
DESCRIPTION:Property ID# 500026
SUMMARY:Openhome for 1/34 Rossiter Avenue
END:VEVENT
END:VCALENDAR
