BEGIN:VCALENDAR
VERSION:2.0
PRODID:icalendar-ruby
CALSCALE:GREGORIAN
BEGIN:VEVENT
DTSTAMP:20210121T022246Z
UID:ff26bb22-ddb0-40f6-9dd6-f168e60c2b11
DTSTART;TZID=Pacific/Auckland:20210124T130000
DTEND;TZID=Pacific/Auckland:20210124T133000
DESCRIPTION:Property ID# 499396
SUMMARY:Openhome for 7/95 Epuni Street
END:VEVENT
END:VCALENDAR
