BEGIN:VCALENDAR
VERSION:2.0
PRODID:icalendar-ruby
CALSCALE:GREGORIAN
BEGIN:VEVENT
DTSTAMP:20210121T022241Z
UID:efb515e5-9f2d-420f-a215-17abac32980c
DTSTART;TZID=Pacific/Auckland:20210124T140000
DTEND;TZID=Pacific/Auckland:20210124T143000
DESCRIPTION:Property ID# 500182
SUMMARY:Openhome for 1/20 Wainui Road
END:VEVENT
END:VCALENDAR
