BEGIN:VCALENDAR
VERSION:2.0
PRODID:icalendar-ruby
CALSCALE:GREGORIAN
BEGIN:VEVENT
DTSTAMP:20210121T022819Z
UID:a7dca4b1-3764-4b8d-8829-cbfbdf7e6431
DTSTART;TZID=Pacific/Auckland:20210124T131500
DTEND;TZID=Pacific/Auckland:20210124T134500
DESCRIPTION:Property ID# 499958
SUMMARY:Openhome for 37 Mandel Mews
END:VEVENT
END:VCALENDAR
