BEGIN:VCALENDAR
VERSION:2.0
PRODID:icalendar-ruby
CALSCALE:GREGORIAN
BEGIN:VEVENT
DTSTAMP:20210121T021152Z
UID:27ae1b19-f7f3-4ec9-9417-c7aebd5dcce4
DTSTART;TZID=Pacific/Auckland:20210121T173000
DTEND;TZID=Pacific/Auckland:20210121T180000
DESCRIPTION:Property ID# 495944
SUMMARY:Openhome for 19 Fernhill Terrace
END:VEVENT
END:VCALENDAR
