BEGIN:VCALENDAR
VERSION:2.0
PRODID:icalendar-ruby
CALSCALE:GREGORIAN
BEGIN:VEVENT
DTSTAMP:20210121T021441Z
UID:15a6ae51-5f29-4941-9d9f-7198c2a94d4b
DTSTART;TZID=Pacific/Auckland:20210124T133000
DTEND;TZID=Pacific/Auckland:20210124T140000
DESCRIPTION:Property ID# 495251
SUMMARY:Openhome for 1/8 Swainson Street
END:VEVENT
END:VCALENDAR
