BEGIN:VCALENDAR
VERSION:2.0
PRODID:icalendar-ruby
CALSCALE:GREGORIAN
BEGIN:VEVENT
DTSTAMP:20210121T021130Z
UID:2e121d70-b4c2-4789-ac3c-121629d2b302
DTSTART;TZID=Pacific/Auckland:20210124T110000
DTEND;TZID=Pacific/Auckland:20210124T113000
DESCRIPTION:Property ID# 498744
SUMMARY:Openhome for 2/259 Major Drive
END:VEVENT
END:VCALENDAR
