BEGIN:VCALENDAR
VERSION:2.0
PRODID:icalendar-ruby
CALSCALE:GREGORIAN
BEGIN:VEVENT
DTSTAMP:20210121T021508Z
UID:bab9b205-04b7-4a58-ad71-8db80b40187d
DTSTART;TZID=Pacific/Auckland:20210121T173000
DTEND;TZID=Pacific/Auckland:20210121T181500
DESCRIPTION:Property ID# 499455
SUMMARY:Openhome for 177 Tirohanga Road
END:VEVENT
END:VCALENDAR
