BEGIN:VCALENDAR
VERSION:2.0
PRODID:icalendar-ruby
CALSCALE:GREGORIAN
BEGIN:VEVENT
DTSTAMP:20210121T021125Z
UID:7ba60c6c-d7bc-4fd1-adc8-ac2fbfd69fa5
DTSTART;TZID=Pacific/Auckland:20210123T134500
DTEND;TZID=Pacific/Auckland:20210123T141500
DESCRIPTION:Property ID# 499970
SUMMARY:Openhome for 13 Otira Grove
END:VEVENT
END:VCALENDAR
