BEGIN:VCALENDAR
VERSION:2.0
PRODID:icalendar-ruby
CALSCALE:GREGORIAN
BEGIN:VEVENT
DTSTAMP:20210121T021128Z
UID:22c6793f-89c4-40d0-b6c3-9e8e5ab7236d
DTSTART;TZID=Pacific/Auckland:20210123T130000
DTEND;TZID=Pacific/Auckland:20210123T133000
DESCRIPTION:Property ID# 499397
SUMMARY:Openhome for 23 Picasso Grove
END:VEVENT
END:VCALENDAR
