BEGIN:VCALENDAR
VERSION:2.0
PRODID:icalendar-ruby
CALSCALE:GREGORIAN
BEGIN:VEVENT
DTSTAMP:20210121T021145Z
UID:adeab13c-47bb-4b6d-8974-fac937c42ceb
DTSTART;TZID=Pacific/Auckland:20210124T110000
DTEND;TZID=Pacific/Auckland:20210124T113000
DESCRIPTION:Property ID# 499633
SUMMARY:Openhome for 111 Allington Road
END:VEVENT
END:VCALENDAR
