BEGIN:VCALENDAR
VERSION:2.0
PRODID:icalendar-ruby
CALSCALE:GREGORIAN
BEGIN:VEVENT
DTSTAMP:20210121T021139Z
UID:9c7f5fa7-2d1e-4d08-ba0f-60d787270d12
DTSTART;TZID=Pacific/Auckland:20210124T130000
DTEND;TZID=Pacific/Auckland:20210124T133000
DESCRIPTION:Property ID# 499032
SUMMARY:Openhome for 25 Montgomery Avenue
END:VEVENT
END:VCALENDAR
