BEGIN:VCALENDAR
VERSION:2.0
PRODID:icalendar-ruby
CALSCALE:GREGORIAN
BEGIN:VEVENT
DTSTAMP:20210121T022234Z
UID:dc62e543-9138-4690-b672-3cf075670f84
DTSTART;TZID=Pacific/Auckland:20210120T170000
DTEND;TZID=Pacific/Auckland:20210120T173000
DESCRIPTION:Property ID# 499456
SUMMARY:Openhome for 4a August Avenue
END:VEVENT
END:VCALENDAR
