BEGIN:VCALENDAR
VERSION:2.0
PRODID:icalendar-ruby
CALSCALE:GREGORIAN
BEGIN:VEVENT
DTSTAMP:20210121T021510Z
UID:9a13a636-d3bd-449d-86f5-cad65e808080
DTSTART;VALUE=DATE:20210204
DESCRIPTION:Property ID# 499455\, Time: 12:30PM
SUMMARY:Auction for 177 Tirohanga Road
END:VEVENT
END:VCALENDAR
