BEGIN:VCALENDAR
VERSION:2.0
PRODID:icalendar-ruby
CALSCALE:GREGORIAN
BEGIN:VEVENT
DTSTAMP:20210121T021131Z
UID:eaab2ffe-2f23-45db-ad2a-5045bc7d3088
DTSTART;VALUE=DATE:20201217
DESCRIPTION:Property ID# 498059\, Time: 1:00PM
SUMMARY:Auction for 
END:VEVENT
END:VCALENDAR
