BEGIN:VCALENDAR
VERSION:2.0
PRODID:icalendar-ruby
CALSCALE:GREGORIAN
BEGIN:VEVENT
DTSTAMP:20210121T022259Z
UID:84be6f36-d326-494c-941d-3b9b0500df97
DTSTART;VALUE=DATE:20201218
DESCRIPTION:Property ID# 497627\, Locatoin: Harcourts Wellington City Offic
 e\, 54-56 Cambridge Terrace (unless sold prior)\, Time: 12:00PM
SUMMARY:Auction for 
END:VEVENT
END:VCALENDAR
